BEGIN:VCALENDAR
VERSION:2.0
PRODID:-//Tanners Creek - ECPv6.15.20//NONSGML v1.0//EN
CALSCALE:GREGORIAN
METHOD:PUBLISH
X-ORIGINAL-URL:https://www.tannerscreekleather.com
X-WR-CALDESC:Events for Tanners Creek
REFRESH-INTERVAL;VALUE=DURATION:PT1H
X-Robots-Tag:noindex
X-PUBLISHED-TTL:PT1H
BEGIN:VTIMEZONE
TZID:America/New_York
BEGIN:DAYLIGHT
TZOFFSETFROM:-0500
TZOFFSETTO:-0400
TZNAME:EDT
DTSTART:20250309T070000
END:DAYLIGHT
BEGIN:STANDARD
TZOFFSETFROM:-0400
TZOFFSETTO:-0500
TZNAME:EST
DTSTART:20251102T060000
END:STANDARD
BEGIN:DAYLIGHT
TZOFFSETFROM:-0500
TZOFFSETTO:-0400
TZNAME:EDT
DTSTART:20260308T070000
END:DAYLIGHT
BEGIN:STANDARD
TZOFFSETFROM:-0400
TZOFFSETTO:-0500
TZNAME:EST
DTSTART:20261101T060000
END:STANDARD
BEGIN:DAYLIGHT
TZOFFSETFROM:-0500
TZOFFSETTO:-0400
TZNAME:EDT
DTSTART:20270314T070000
END:DAYLIGHT
BEGIN:STANDARD
TZOFFSETFROM:-0400
TZOFFSETTO:-0500
TZNAME:EST
DTSTART:20271107T060000
END:STANDARD
END:VTIMEZONE
BEGIN:VEVENT
DTSTART;VALUE=DATE:20260114
DTEND;VALUE=DATE:20260311
DTSTAMP:20260423T111241
CREATED:20260114T235431Z
LAST-MODIFIED:20260114T235654Z
UID:1456-1768348800-1773187199@www.tannerscreekleather.com
SUMMARY:Closed for Warmer Weather
DESCRIPTION:Our shop will be closed from January 14th till March 10th. Any orders placed will be shipped as soon as we return. If you need to contact us\, email us at bonniebower@hotmail.com\nWarm Breezes\,\nMarvin and Bonnie Bower
URL:https://www.tannerscreekleather.com/event/closed-for-warmer-weather/
END:VEVENT
END:VCALENDAR